BEGIN:VCALENDAR
VERSION:2.0
PRODID:-//wp-events-plugin.com//7.2.3.1//EN
BEGIN:VEVENT
UID:2423@bgcaboards.org
DTSTART;TZID=America/New_York:20250122T130000
DTEND;TZID=America/New_York:20250122T140000
DTSTAMP:20241216T210228Z
URL:https://bgcaboards.org/events/q1-area-council-leadership-orientation/
SUMMARY:Q1 Area Council Leadership Orientation
DESCRIPTION:Click Here to Register\nDate: 1/22/2025\nTime: 1 PM - 2:00 PM E
 T (Noon—1:00 CT\, 11—12:00 MT\, 10—11:00 PT)\n\nThis live virtual or
 ientation will provide the knowledge and resources to lead an effective Ar
 ea Council as an Area Council Chair or Officer. For: New Area Council Chai
 rs\, Vice Chairs\, Treasurers\, CEOs/Executive Secretaries\, those in line
  of succession\, or those wanting a refresher.
END:VEVENT
BEGIN:VTIMEZONE
TZID:America/New_York
X-LIC-LOCATION:America/New_York
BEGIN:STANDARD
DTSTART:20241103T010000
TZOFFSETFROM:-0400
TZOFFSETTO:-0500
TZNAME:EST
END:STANDARD
END:VTIMEZONE
END:VCALENDAR